BEGIN:VCALENDAR
VERSION:2.0
PRODID:-//ChamberMaster//Event Calendar 2.0//EN
METHOD:PUBLISH
X-PUBLISHED-TTL:P3D
REFRESH-INTERVAL:P3D
CALSCALE:GREGORIAN
BEGIN:VEVENT
DTSTART:20220414T160000Z
DTEND:20220414T170000Z
X-MICROSOFT-CDO-ALLDAYEVENT:FALSE
SUMMARY:Sasha's of Saratoga Ribbon Cutting
DESCRIPTION:Join the Saratoga County Chamber with Sasha's of Saratoga!  Sasha Crowley opened her business during the pandemic\, and the Chamber is happy to reintroduce her to the Saratoga community!
X-ALT-DESC;FMTTYPE=text/html:Join the Saratoga County Chamber with Sasha&#39\;s of Saratoga!&nbsp\; Sasha Crowley opened her business during the pandemic\, and the Chamber is happy to reintroduce her to the Saratoga community!&nbsp\;
LOCATION:2 Franklin Square Suite F Saratoga Springs\, NY 12866
UID:e.2254.41768
SEQUENCE:3
DTSTAMP:20260422T012237Z
URL:https://saratoga2.preview.gochambermaster.com/events/details/sasha-s-of-saratoga-ribbon-cutting-41768
END:VEVENT

END:VCALENDAR
