BEGIN:VCALENDAR
VERSION:2.0
PRODID:-//ChamberMaster//Event Calendar 2.0//EN
METHOD:PUBLISH
X-PUBLISHED-TTL:P3D
REFRESH-INTERVAL:P3D
CALSCALE:GREGORIAN
BEGIN:VEVENT
DTSTART:20220519T170000Z
DTEND:20220519T180000Z
X-MICROSOFT-CDO-ALLDAYEVENT:FALSE
SUMMARY:Capital Region Environmental Lab Ribbon Cutting
DESCRIPTION:Join the Saratoga County Chamber as we celebrate the new satellite office opening for Capital Region Environmental Lab in Malta!
X-ALT-DESC;FMTTYPE=text/html:Join the Saratoga County Chamber as we celebrate the new satellite office opening for Capital Region Environmental Lab in Malta!&nbsp\;
LOCATION:7 Hemphill Place Suite 231 Malta\, NY 12020
UID:e.2254.41781
SEQUENCE:3
DTSTAMP:20260421T204105Z
URL:https://saratoga2.preview.gochambermaster.com/events/details/capital-region-environmental-lab-ribbon-cutting-41781
END:VEVENT

END:VCALENDAR
